BEGIN:VCALENDAR
VERSION:2.0
PRODID:-//wp-events-plugin.com//6.4.6.4//EN
TZID:Europe/Paris
X-WR-TIMEZONE:Europe/Paris
BEGIN:VEVENT
UID:2@clubclimatenergie.org
DTSTART:20231128T090000Z
DTEND:20231128T150000Z
DTSTAMP:20230712T115606Z
URL:https://clubclimatenergie.org/evenements/conference-cce-2023/
SUMMARY:Conférence CCE 2023
DESCRIPTION:La conférence professionnelle à ne pas rater sur les thémati
 ques énergétiques. Retours sur la crise\, enjeux et construction des pri
 x.\n\n\n\nConférence CCE 2023\n\nLe Club Climat Energie de Saint-Quentin-
 en-Yvelines vous retrouve cette année pour aborder les thématiques éner
 gétiques liée à la crise 2022.\n\nAu rendez-vous\, retours d'expérienc
 e : comment entreprises et collectivités se sont-elles adaptées ? Quels 
 plans de sobriété énergétique ? Quels ont été les impacts ?\n\nMais 
 surtout les perspectives envisagées avec la présentation de nouveaux mé
 canismes et des éclaircissements sur la construction des prix.\n\nEnfin u
 n moment d'échange privilégié entre participants et orateurs autour d'u
 n cocktail déjeunatoire.\n\nRiche en échanges et en informations d'actua
 lité\, ne manquez pas la conférence CCE et réserver votre billet pour l
 e 28 novembre.\n\nRejoignez-nous !\n\n\n
ATTACH;FMTTYPE=image/jpeg:https://clubclimatenergie.org/wp-content/uploads
 /2023/07/1671_image_original.jpg
END:VEVENT
END:VCALENDAR